BEGIN:VCALENDAR
VERSION:2.0
PRODID:-//Centre culturel de Soignies - ECPv6.15.11//NONSGML v1.0//EN
CALSCALE:GREGORIAN
METHOD:PUBLISH
X-ORIGINAL-URL:https://centreculturelsoignies.be
X-WR-CALDESC:Évènements pour Centre culturel de Soignies
REFRESH-INTERVAL;VALUE=DURATION:PT1H
X-Robots-Tag:noindex
X-PUBLISHED-TTL:PT1H
BEGIN:VTIMEZONE
TZID:Europe/Paris
BEGIN:DAYLIGHT
TZOFFSETFROM:+0100
TZOFFSETTO:+0200
TZNAME:CEST
DTSTART:20260329T010000
END:DAYLIGHT
BEGIN:STANDARD
TZOFFSETFROM:+0200
TZOFFSETTO:+0100
TZNAME:CET
DTSTART:20261025T010000
END:STANDARD
BEGIN:DAYLIGHT
TZOFFSETFROM:+0100
TZOFFSETTO:+0200
TZNAME:CEST
DTSTART:20270328T010000
END:DAYLIGHT
BEGIN:STANDARD
TZOFFSETFROM:+0200
TZOFFSETTO:+0100
TZNAME:CET
DTSTART:20271031T010000
END:STANDARD
BEGIN:DAYLIGHT
TZOFFSETFROM:+0100
TZOFFSETTO:+0200
TZNAME:CEST
DTSTART:20280326T010000
END:DAYLIGHT
BEGIN:STANDARD
TZOFFSETFROM:+0200
TZOFFSETTO:+0100
TZNAME:CET
DTSTART:20281029T010000
END:STANDARD
END:VTIMEZONE
BEGIN:VEVENT
DTSTART;TZID=Europe/Paris:20270108T200000
DTEND;TZID=Europe/Paris:20270124T180000
DTSTAMP:20260422T025255
CREATED:20260302T093853Z
LAST-MODIFIED:20260302T093854Z
UID:10000241-1799438400-1800813600@centreculturelsoignies.be
SUMMARY:Femmes au coeur du commerce équitable
DESCRIPTION:Une exposition d’Oxfam – Magasins du Monde\n\n\n\n\n\n\n\nVisibiliser les femmes.\n\n\n\nEntre l’Inde et la Belgique\, vingt portraits de femmes engagées dans le commerce équitable rendent visibles des parcours inspirants. Héritages\, luttes et solidarités s’y croisent pour affirmer le pouvoir d’agir des femmes et leur rôle central dans la construction d’une économie plus juste. \n\n\n\nCette exposition s’inscrit dans la campagne de l’ONG Oxfam-Magasins du monde « Les femmes au cœur du commerce équitable ». L’un des propos de cette campagne est de visibiliser les femmes\, qui portent le mouvement du commerce équitable\, à tous les niveaux de la chaine : artisanes\, communicantes\, directrices d’organisation\, bénévoles dans nos magasins en Belgique… \n\n\n\nUne exposition créée par Oxfam-Magasins du mondePhotographies par la photographe belgo-indienne  Marjorie Goffart-AulakhEn partenariat avec la Ville de Soignies et Oxfam Soignies \n\n\n\n\n\n\n\n\n\n\n	\n		Share This Story\, Choose Your Platform!\n		FacebookPinterestEmail
URL:https://centreculturelsoignies.be/event/femmes-au-coeur-du-commerce-equitable/
LOCATION:Espace culturel Victor Jara – Soignies\, Place Van Zeeland\, 31\, Soignies\, 7060\, Belgium
CATEGORIES:Education permanente,Exposition
ATTACH;FMTTYPE=image/png:https://centreculturelsoignies.be/wp-content/uploads/2026/03/Femmes_commerce_equitable.png
END:VEVENT
BEGIN:VEVENT
DTSTART;TZID=Europe/Paris:20270212T200000
DTEND;TZID=Europe/Paris:20270212T220000
DTSTAMP:20260422T025256
CREATED:20260420T073626Z
LAST-MODIFIED:20260420T132413Z
UID:10000251-1802462400-1802469600@centreculturelsoignies.be
SUMMARY:Marie Warnant
DESCRIPTION:Panorama 20\n\n\n\n\n\n\n\nArtiste « touche-à-tout…\n\n\n\nMARIE WARNANT n’a jamais cessé de se renouveler au fil du temps et de ses albums\, en offrant avec authenticité sa plume ciselée\, sa musicalité singulière et sa forte personnalité. Artiste touche-à-tout\, elle mélange les genres\, les codes et les influences pour créer un style personnel et varié naviguant dans l’océan de la chanson française alternative\, à la croisée des territoires et des sonorités. \n\n\n\nPour célébrer les 20 ans de son premier album « De Un à Dix » en 2005 et après « Pisang Orange » en 2023\, cinquième opus de la bruxelloise\, MARIE WARNANT revient avec « PANORAMA 20 » pour un concert où elle dévoilera ses nouveaux sons et nouvelles chansons\, en revisitant également les titres forts et phares de son répertoire. Entre électro et pop\, entre jazz et rock\, entre acoustique et électrique\, entre classique et éclectique\, entre ombre et lumière\, entre noir et blanc. \n\n\n\n15€ / 12€ ( Flexi & – de 26 ans ) / 1\,25€ ( Art. 27 ) \n\n\n\n\n\n\n\n\n\n\nPour des raisons de confidentialité YouTube a besoin de votre autorisation pour charger. Pour plus de détails\, veuillez consulter nos Politique de confidentialité.J'accepte\n\n\n\n\n\n	\n		Share This Story\, Choose Your Platform!\n		FacebookPinterestEmail
URL:https://centreculturelsoignies.be/event/marie-warnant/
LOCATION:La Grange\, Rue St Antoine 5b\, Casteau\, 7061\, Belgium
CATEGORIES:Musique
ATTACH;FMTTYPE=image/png:https://centreculturelsoignies.be/wp-content/uploads/2026/04/Marie_Warnant.png
END:VEVENT
BEGIN:VEVENT
DTSTART;TZID=Europe/Paris:20270320T200000
DTEND;TZID=Europe/Paris:20270320T220000
DTSTAMP:20260422T025256
CREATED:20260310T072420Z
LAST-MODIFIED:20260312T071904Z
UID:10000245-1805572800-1805580000@centreculturelsoignies.be
SUMMARY:We want Miles
DESCRIPTION:100 ans de Miles Davis\n\n\n\n\n\n\n\nDans les traces de Miles Davis\n\n\n\nEn 2026\, le monde du jazz rend hommage au centenaire de Miles Davis\, artisan de mutations musicales et figure magnétique qui n’a jamais cessé d’avancer. Du lyrisme modal de Kind of Blue à l’esthétique électrique et urbaine de ses dernières années\, Miles a sans cesse bouleversé les codes et déplacé les frontières du genre. \n\n\n\nCe programme propose une plongée dans plusieurs vies artistiques de Miles : la période acoustique\, intemporelle\, presque contemplative\, celle des harmonies ouvertes et du minimalisme expressif ; puis l’époque des grandes directions orchestrales et de la liberté totale ; enfin son virage électrique\, nourri de groove\, de funk\, de tensions rythmiques et d’un rapport neuf à la pulsation. \n\n\n\nPorté par un sextet rompu aux subtilités du langage davisien\, We Want Miles refuse la reconstitution muséale. Ici\, il ne s’agit pas de copier mais d’explorer\, d’interpréter\, de réinventer. Le groupe embrasse l’héritage tout en le projetant dans le présent\, retrouvant cette impulsion fondamentale de Miles : aller vers l’avant\, toujours. \n\n\n\n« On ne rejoue pas Miles\, on marche dans ses traces » \n\n\n\nCe concert est une célébration du souffle\, du risque\, de l’énergie électrique qui a traversé tout son parcours. Une traversée vibrante où se rencontrent le silence\, le groove\, le lyrisme brut et la liberté sonore. C’est plus qu’un hommage : c’est un acte de continuation. \n\n\n\nLine-up : \n\n\n\nBilou Doneux – batterie \n\n\n\nPierre Malempré – trompette \n\n\n\nThomas Champagne – saxophone alto \n\n\n\nMichel Mainil – saxophone ténor \n\n\n\nGuillaume Vierset – guitare \n\n\n\nFil Caporali (BR) – basse \n\n\n\nEn collaboration avec Central \n\n\n\n18€ / 15€ ( Flexi\, abonnés et – de 26 ans ) / 1\,25€ ( Art. 27 ) \n\n\n\n\n\n\n\n\n\n\n	\n		Share This Story\, Choose Your Platform!\n		FacebookPinterestEmail
URL:https://centreculturelsoignies.be/event/we-want-miles/
LOCATION:Espace culturel Victor Jara – Soignies\, Place Van Zeeland\, 31\, Soignies\, 7060\, Belgium
CATEGORIES:Musique
ATTACH;FMTTYPE=image/png:https://centreculturelsoignies.be/wp-content/uploads/2026/03/We_Want_Miles.png
END:VEVENT
BEGIN:VEVENT
DTSTART;TZID=Europe/Paris:20270415T200000
DTEND;TZID=Europe/Paris:20270415T213000
DTSTAMP:20260422T025256
CREATED:20260304T144619Z
LAST-MODIFIED:20260305T100051Z
UID:10000244-1807819200-1807824600@centreculturelsoignies.be
SUMMARY:Mélanie Akkari
DESCRIPTION:Perséphone\n\n\n\n\n\n\n\nVoix prometteuse et engagée\n\n\n\nAprès un job ennuyeux dans la data et un passage dans l’armée de l’air\, Mélanie Akkari se tourne vers le stand-up. Repérée par le fondateur de What the Fun\, elle confirme rapidement son talent en remportant le concours du Kings of Comedy Club en 2024. \n\n\n\nAujourd’hui elle est chroniqueuse sur La Première (RTBF) et annonce la tournée de son premier spectacle. \n\n\n\nDans la foulée\, elle a également écrit et réalisé son premier court métrage « Vacarme » et travaille à l’écriture du second. \n\n\n\nUne nouvelle voix prometteuse et engagée à ne pas rater (avant que les billets ne deviennent trop chers) \n\n\n\nLE SPECTACLE \n\n\n\nPerséphone\, c’est l’histoire d’une meuf qui n’a jamais su choisir et qui a fini par décider que ce n’était pas son problème. \n\n\n\nDans ce spectacle\, Mélanie Akkari parle de sujets légers\, drôles\, parfois plus intimes\, avec beaucoup de sincérité et juste ce qu’il faut de mauvaise foi (on change pas une équipe qui perd). \n\n\n\nAucun conseil de vie ici\, promis. Juste peut-être l’envie de se foutre un peu la paix. \n\n\n\nEn collaboration avec le Centre culturel de Braine-le-Comte \n\n\n\n22€ – 18€ ( Flexi\, abonnés et – de 26 ans ) – 1\,25€ ( Art. 27 ) \n\n\n\n\n\n\n\n\n\n\n	\n		Share This Story\, Choose Your Platform!\n		FacebookPinterestEmail
URL:https://centreculturelsoignies.be/event/melanie-akkari/
LOCATION:Espace culturel Victor Jara – Soignies\, Place Van Zeeland\, 31\, Soignies\, 7060\, Belgium
CATEGORIES:Humour
ATTACH;FMTTYPE=image/png:https://centreculturelsoignies.be/wp-content/uploads/2026/03/Melanie_Akkari.png
END:VEVENT
END:VCALENDAR