BEGIN:VCALENDAR
VERSION:2.0
PRODID:-//Centre culturel de Soignies - ECPv6.15.11//NONSGML v1.0//EN
CALSCALE:GREGORIAN
METHOD:PUBLISH
X-WR-CALNAME:Centre culturel de Soignies
X-ORIGINAL-URL:https://centreculturelsoignies.be
X-WR-CALDESC:Évènements pour Centre culturel de Soignies
REFRESH-INTERVAL;VALUE=DURATION:PT1H
X-Robots-Tag:noindex
X-PUBLISHED-TTL:PT1H
BEGIN:VTIMEZONE
TZID:Europe/Paris
BEGIN:DAYLIGHT
TZOFFSETFROM:+0100
TZOFFSETTO:+0200
TZNAME:CEST
DTSTART:20250330T010000
END:DAYLIGHT
BEGIN:STANDARD
TZOFFSETFROM:+0200
TZOFFSETTO:+0100
TZNAME:CET
DTSTART:20251026T010000
END:STANDARD
BEGIN:DAYLIGHT
TZOFFSETFROM:+0100
TZOFFSETTO:+0200
TZNAME:CEST
DTSTART:20260329T010000
END:DAYLIGHT
BEGIN:STANDARD
TZOFFSETFROM:+0200
TZOFFSETTO:+0100
TZNAME:CET
DTSTART:20261025T010000
END:STANDARD
BEGIN:DAYLIGHT
TZOFFSETFROM:+0100
TZOFFSETTO:+0200
TZNAME:CEST
DTSTART:20270328T010000
END:DAYLIGHT
BEGIN:STANDARD
TZOFFSETFROM:+0200
TZOFFSETTO:+0100
TZNAME:CET
DTSTART:20271031T010000
END:STANDARD
END:VTIMEZONE
BEGIN:VEVENT
DTSTART;TZID=Europe/Paris:20260311T143000
DTEND;TZID=Europe/Paris:20260311T153000
DTSTAMP:20260422T012813
CREATED:20250611T132619Z
LAST-MODIFIED:20250619T090149Z
UID:10000207-1773239400-1773243000@centreculturelsoignies.be
SUMMARY:J'ai enlevé Mamie
DESCRIPTION:Théâtre des 4 Mains\n\n\n\n\n\n\n\n© Ger Spendel \n\n\n\nLou rend visite à sa grand-mère en maison de retraite \n\n\n\nDès 7 ans – Durée : 60′ \n\n\n\nD’après le livre du même nom\, écrit par Jérôme Poncin et illustré par Ian Dehaes / Éditions Alice\, mai 2022Lou va rendre visite de temps en temps à sa grand-mère en maison de retraite.Elle voit bien que sa Mamie ne va pas très bien\, mais elle se rend surtout compte qu’elle ne la connaît pas bien\, cette mamie. Alors\, quand dans un moment de perte de mémoire\, sa Mamie parle de partir pour rejoindre son mari\, le grand-père que Lou n’a jamais connu\, Lou la prend au mot et la fait évader de la maison de retraite.Là commence un tendre et surréaliste road trip où elles apprendront à se découvrir mutuellement et renoueront avec le passé enfoui de Mamie.Une histoire familiale suspendue dans le temps à travers quelques jours d’escapades\, de révélations\, de découvertes\, de complicité et de tendresse.Un spectacle avec marionnettes et comédien.ne.s act.eur.rices\, manipulat.eur.rices\, circassien.nes. \n\n\n\nRencontres jeune public 2023 – Mention du jury pour le regard tendre et espiègle sur le lien à nos aînés. \n\n\n\nAdaptation et mise en scène : Jérôme Poncin \n\n\n\nInterprétation : Jeanne Decuypere\, Simon Hommé\, Anaïs Pétry et Benoit de Leu de Cecil \n\n\n\nScénographie : Noémie Vanheste \n\n\n\nCréation marionnettes : Aurélie Deloche\, Marc Maillard \n\n\n\nCréation décors : François De Myttenaere \n\n\n\nCréation musicale : Gloria Boateng \n\n\n\nCréation costumes : Evy Demotte \n\n\n\nIllustrations : Ian De Haes \n\n\n\nRégie : François De Myttenaere et Jonathan Vincke \n\n\n\nPhotos : Ger Spendel \n\n\n\n11€ / 8€ ( Flexi & abonnés ) / 5€ ( Groupes ) / 1\,25€ ( Art. 27 ) \n\n\n\n\n\n\n\n\nPour des raisons de confidentialité YouTube a besoin de votre autorisation pour charger. Pour plus de détails\, veuillez consulter nos Politique de confidentialité.J'accepte\n\n\n\n\n\n\n\n	\n		Share This Story\, Choose Your Platform!\n		FacebookPinterestEmail
URL:https://centreculturelsoignies.be/event/jai-enleve-mamie/
LOCATION:Espace culturel Victor Jara – Soignies\, Place Van Zeeland\, 31\, Soignies\, 7060\, Belgium
CATEGORIES:En famille
ATTACH;FMTTYPE=image/png:https://centreculturelsoignies.be/wp-content/uploads/2025/06/Jai_enleve_Mamie.png
END:VEVENT
BEGIN:VEVENT
DTSTART;TZID=Europe/Paris:20260306T200000
DTEND;TZID=Europe/Paris:20260306T223000
DTSTAMP:20260422T012813
CREATED:20250826T135915Z
LAST-MODIFIED:20260302T091435Z
UID:10000235-1772827200-1772836200@centreculturelsoignies.be
SUMMARY:Ozark Henry
DESCRIPTION:August Parker\n\n\n\n\n\n\n\nUne soirée hors du temps…\n\n\n\nAprès avoir rempli les plus grandes salles du pays\, Ozark Henry sera de passage à Soignies pour présenter August Parker\, son nouvel album. Une occasion unique de vivre de près l’univers singulier de l’artiste. \n\n\n\nAugust Parker\, son premier album studio depuis huit ans est sorti à l’automne. Les deux premiers singles\, Light et Martyr\, donnent immédiatement le ton : des morceaux intenses\, profonds et chargés d’émotion. Light est inspiré d’une histoire vraie autour de l’audition et de l’identité\, tandis que Martyr explore le sentiment d’impuissance face à un combat qu’on n’a pas choisi. \n\n\n\nSur scène\, Ozark Henry dépasse les genres et toutes les attentes. Ses concerts sont de véritables expériences cinématographiques où musique\, visuel et récit s’entrelacent. \n\n\n\nPour l’univers visuel de l’album\, Ozark Henry a collaboré avec le réalisateur Lukas Desmet\, en s’inspirant du Kintsugi\, l’art japonais de réparer les objets cassés avec de l’or – un symbole fort de la beauté des imperfections et de la résilience. \n\n\n\nNe manquez pas Ozark Henry à Soignies …  Une soirée hors du temps vous attend. \n\n\n\nEn collaboration avec le Centre culturel de Braine-le-Comte \n\n\n\n40€ – 35€ ( Flexi\, abonnés et – de 26 ans ) – 1\,2€ ( Art. 27 ) \n\n\n\n\n\n\n\n\nPour des raisons de confidentialité YouTube a besoin de votre autorisation pour charger. Pour plus de détails\, veuillez consulter nos Politique de confidentialité.J'accepte\n\n\n\n\n\n\n\n	\n		Share This Story\, Choose Your Platform!\n		FacebookPinterestEmail
URL:https://centreculturelsoignies.be/event/ozark-henry/
LOCATION:Espace culturel Victor Jara – Soignies\, Place Van Zeeland\, 31\, Soignies\, 7060\, Belgium
CATEGORIES:Musique
ATTACH;FMTTYPE=image/jpeg:https://centreculturelsoignies.be/wp-content/uploads/2025/08/Ozark_Henry-copie.jpg
END:VEVENT
BEGIN:VEVENT
DTSTART;TZID=Europe/Paris:20260220T200000
DTEND;TZID=Europe/Paris:20260220T220000
DTSTAMP:20260422T012813
CREATED:20250611T063035Z
LAST-MODIFIED:20250619T082154Z
UID:10000196-1771617600-1771624800@centreculturelsoignies.be
SUMMARY:Giedré
DESCRIPTION:Tournée anniversaire\n\n\n\n\n\n\n\nUne artiste à part ! \n\n\n\nGiedRé\, ce qu’elle aime bien dans la vie\, c’est écrire des chansons rigolotes sur des trucs pas très rigolos. Et ce qu’elle aime encore plus\, c’est chanter ses chansons rigolotes-sur-des-trucs-pas-rigolos sur scène\, car les lumières sont très fortes et ça lui « donne dix ans de moins ». Du moins c’est ce qu’elle croit\, mais les gens ne sont pas dupes. Alors elle repart en tournée\, avec une nouvelle formule Maxi Best Of\, sans frites mais avec ses plus grands tubes\, du moins aux yeux de sa famille (qui la confond tout le temps avec Barbara Streisand.) Depuis le temps qu’elle patiente dans cette chambre noire\, elle a écrit pas moins de 150 chansons\, peut-être plus\, mais elle ne sait compter au-delà (en même temps on a rarement besoin de compter au-delà de 150). Alors elle a choisi ses préférées\, les préférées des gens\, en a écrit de nouvelles\, et la voilà repartie sur les routes pour les chanter à ceux qui sont loin de chez eux mais qui ont dans leurs yeux quelque chose qui fait mal. Mais si vous n’êtes pas loin de chez vous et que rien dans votre cœur ne vous fait mal\, venez quand même\, ne serait-ce que pour vérifier si les lumières de scène rajeunissent vraiment. (Et si vous n’avez pas la ref comme disent les jeunes\, révisez vos classiques.) \n\n\n\nGiédRé nous revient avec son nouveau spectacle. On peut s’attendre à ce que ce nouveau projet soit empreint de la même audace\, du même humour noir et de la même sensibilité qui caractérisent l’ensemble de son œuvre. Ce spectacle promet d’être une nouvelle exploration des paradoxes de l’existence\, avec cette touche unique qui fait de GiedRé une artiste à part dans le paysage musical et culturel français. \n\n\n\nUne collaboration des Centres culturels de Braine-le-Comte et Soignies \n\n\n\n30€ / 26€ ( Flexi\, abonnés & – de 26 ans ) / 1\,25€ ( Art. 27 ) \n\n\n\n\n\n\n\n\nPour des raisons de confidentialité YouTube a besoin de votre autorisation pour charger. Pour plus de détails\, veuillez consulter nos Politique de confidentialité.J'accepte\n\n\n\n\n\n\n\n	\n		Share This Story\, Choose Your Platform!\n		FacebookPinterestEmail
URL:https://centreculturelsoignies.be/event/giedre/
LOCATION:Espace culturel Victor Jara – Soignies\, Place Van Zeeland\, 31\, Soignies\, 7060\, Belgium
CATEGORIES:Humour,Musique
ATTACH;FMTTYPE=image/png:https://centreculturelsoignies.be/wp-content/uploads/2025/06/Giedre.png
END:VEVENT
BEGIN:VEVENT
DTSTART;TZID=Europe/Paris:20260219T200000
DTEND;TZID=Europe/Paris:20260219T220000
DTSTAMP:20260422T012813
CREATED:20250611T120002Z
LAST-MODIFIED:20250903T075534Z
UID:10000203-1771531200-1771538400@centreculturelsoignies.be
SUMMARY:Milow
DESCRIPTION:Unplugged\n\n\n\n\n\n\n\nTournée intimiste ! \n\n\n\nAprès une tournée européenne\,  Milow présentera\, au printemps 2026\, son nouvel album « Boy Made Out Of Stars » sous une forme intimiste avec un programme complet d’œuvres nouvelles et plus anciennes. \n\n\n\nAprès le succès de son précédent album\, Nice To Meet You (2022)\, qui alignait les tubes tels que « Whatever It Takes » et « ASAP »\, Milow n’a cessé de sortir de nouveaux titres. Ses récentes chansons « Tell Me Twice » et « I’ve Been Expecting You »\, sorties ces derniers mois\, figureront également sur le nouvel album. Ces chansons\, ainsi que « Crazy For You »\, dévoilent un pan des thèmes introspectifs et émotionnels qui caractérisent Boy Made Out Of Stars. Milow continue donc d’évoluer\, avec une narration riche entremêlée de mélodies acoustiques de haut vol. \n\n\n\nBoy Made Out Of Stars a été enregistré avec l’impressionnant groupe live de Milow\, un ensemble de musiciens talentueux et renommés comprenant Tom Vanstiphout à la guitare\, Nina Babet au chant\, Mario Garuccio à la batterie et Dominik Krämer à la basse. L’album reflète la synergie\, l’énergie et le dynamisme du groupe\, qui ont joué un rôle déterminant dans la formation du son unique de Milow. \n\n\n\n« L’enregistrement avec le groupe a été un très grand moment. Nous sommes arrivés à un point où nous pouvons dialoguer sans dire mot. C’est ce que j’ai toujours voulu atteindre pendant une session d’enregistrement. Aujourd’hui\, j’ai l’impression que tout s’est mis en place d’une manière transparente et spéciale »\, confie Milow. « Nous nous donnons la réplique depuis des années\, et je voulais retranscrire en studio l’alchimie qui nous habite sur scène. J’ai hâte de donner vie à cette nouvelle musique en tournée ». \n\n\n\nParallèlement à la dimension musicale du nouvel album\, Milow a enregistré un clip vidéo pour chaque chanson. La moitié des vidéos a été filmée en Belgique et l’autre moitié\, dans la Cité des Anges\, les deux endroits où Milow se sent chez lui. Il partage son temps entre l’Europe et la Californie\, une dualité qui fait écho aux thèmes de l’album et offre aux fans un voyage visuel au diapason de son style de vie transatlantique. \n\n\n\nMilow (Jonathan Vandenbroeck) est devenu l’un des auteurs-compositeurs-interprètes les plus prolifiques d’Europe. Sa capacité à transformer des thèmes personnels en hymnes universels a forgé sa réputation. Ses succès tels que « You Don’t Know »\, « Ayo Technology »\, « Howling At The Moon » et ses tubes plus récents comme « Whatever It Takes » et « ASAP » résonnent dans le monde entier. Les concerts de Milow\, rehaussés par le talent de son groupe\, sont renommés pour leur caractère intimiste et leur énergie. \n\n\n\nUne collaboration des Centres culturels de Braine-le-Comte et Soignies \n\n\n\n37€ / 32€ ( Flexi\, abonnés & – de 26 ans ) / 1\,25€ ( Art. 27 ) \n\n\n\n\n\n\n\n\nPour des raisons de confidentialité YouTube a besoin de votre autorisation pour charger. Pour plus de détails\, veuillez consulter nos Politique de confidentialité.J'accepte\n\n\n\n\n\n\n\n	\n		Share This Story\, Choose Your Platform!\n		FacebookPinterestEmail
URL:https://centreculturelsoignies.be/event/milow/
LOCATION:Salle Baudouin IV\, rue Rey Aîné 16\, Braine-le-comte\, 7090\, Belgium
CATEGORIES:Musique
ATTACH;FMTTYPE=image/png:https://centreculturelsoignies.be/wp-content/uploads/2025/06/Milow.png
END:VEVENT
BEGIN:VEVENT
DTSTART;TZID=Europe/Paris:20260212T200000
DTEND;TZID=Europe/Paris:20260212T220000
DTSTAMP:20260422T012813
CREATED:20250617T071609Z
LAST-MODIFIED:20250623T090211Z
UID:10000217-1770926400-1770933600@centreculturelsoignies.be
SUMMARY:Je suis Fassbinder
DESCRIPTION:De Noah Helman\n\n\n\n\n\n\n\nBienvenue en Europe ! \n\n\n\nFlux de réfugiés\, montée de l’extrême-droite\, guerres à sa porte\, attentats terroristes\, atteintes à ses libertés fondamentales\, retour d’idéologies racistes et homophobes\, records de violence\, pandémie\, états d’urgence à répétition… Bienvenue en Europe !En partant de la figure du cinéaste allemand Rainer Werner Fassbinder et de son film «L’Allemagne en automne»\, les comédiens au plateau passant du personnage au comédien en répétition\, questionnent notre société occidentale : courons-nous vers une société enperpétuel état d’urgence ? \n\n\n\nInterprétation : Tara Bozkurt\, Noah Helman\, Damien Beltran et Jonathan ColletMise en scène : Nathalie BrasselTexte : Falk Richter \n\n\n\n18€ / 14€ ( Flexi & abonnés ) / 10€ ( – de 26 ans ) / 8€ ( Groupes scolaires ) / 1\,25€ ( Art. 27 ) \n\n\n\n\n\n\n\n\n\n\n	\n		Share This Story\, Choose Your Platform!\n		FacebookPinterestEmail
URL:https://centreculturelsoignies.be/event/je-suis-fassbinder/
LOCATION:Salle Baudouin IV\, rue Rey Aîné 16\, Braine-le-comte\, 7090\, Belgium
CATEGORIES:Théâtre
ATTACH;FMTTYPE=image/png:https://centreculturelsoignies.be/wp-content/uploads/2025/06/Fassbinder.png
END:VEVENT
BEGIN:VEVENT
DTSTART;TZID=Europe/Paris:20260212T110000
DTEND;TZID=Europe/Paris:20260212T140000
DTSTAMP:20260422T012813
CREATED:20250616T122636Z
LAST-MODIFIED:20250807T103749Z
UID:10000212-1770894000-1770904800@centreculturelsoignies.be
SUMMARY:La p'tite goguette
DESCRIPTION:Chansons indémodables !\n\n\n\n\n\n\n\nEsprit guinguette… \n\n\n\nUn accordéon et une voix\, là pour vous faire entendre les indémodables de la chanson française\, celles qui rassemblent les générations. Des plus connues qui nous habitent aux découvertes sorties du fond de la valise\, Clémence et Maximilien vous feront entendre les plus belles mélodies en toute simplicité. Un patrimoine riche qu’on ne se lasse jamais de redécouvrir. \n\n\n\nEn collaboration avec Le Quinquet ( Soupe au Lait ) \n\n\n\nMENU : hachis parmentier aux chicons + riz au lait \n\n\n\n21€ / 19€ ( Flexi  ) / 18\,25€ ( Art. 27 ) – Repas compris \n\n\n\n\n\n\n\n\n\n\n	\n		Share This Story\, Choose Your Platform!\n		FacebookPinterestEmail
URL:https://centreculturelsoignies.be/event/la-ptite-goguette/
LOCATION:Espace culturel Victor Jara – Soignies\, Place Van Zeeland\, 31\, Soignies\, 7060\, Belgium
CATEGORIES:Musique,Retour du Jeudi
ATTACH;FMTTYPE=image/png:https://centreculturelsoignies.be/wp-content/uploads/2025/06/La_ptite_goguette.png
END:VEVENT
BEGIN:VEVENT
DTSTART;TZID=Europe/Paris:20260205T200000
DTEND;TZID=Europe/Paris:20260205T220000
DTSTAMP:20260422T012813
CREATED:20250623T092451Z
LAST-MODIFIED:20250814T074311Z
UID:10000222-1770321600-1770328800@centreculturelsoignies.be
SUMMARY:Les Dragons
DESCRIPTION:De Jérome Colin\n\n\n\n\n\n\n\nPortrait d’une jeunesse exclue \n\n\n\nLe dragon a entre treize et dix-huit ans. Il ressemble aux enfants normaux. Il est comme tout le monde mais tout le monde a décidé qu’il était différent. Il croit qu’il est seul au monde parce qu’on ne lui a pas dit qu’il y avait sur terre d’autres dragons. En réalité\, ils sont légion. \n\n\n\nHorizon+\, hôpital psychiatrique pour adolescents. Un centre bien caché du monde normal. C’est là qu’atterrit\, sur décision de justice\, un jeune garçon en colère. Il a 15 ans. L’âge où la vie commence. \n\n\n\nHospitalisée\, elle aussi\, Colette veut mourir. Peu importe. Il va la sauver. Et elle le sauvera aussi. \n\n\n\nMais souvent\, écrivait Steinbeck dans Des Souris et des Hommes\, les plans les mieux conçus ne se réalisent pas… \n\n\n\nLes dragons est écrit à partir de vraies et belles rencontres. Jérôme Colin – animateur à la RTBF et auteur du Champ de Bataille  – y parle du surgissement de l’amour dans nos vies. Et dresse le portrait d’une jeunesse exclue\, mais qui sait rester tendre et solidaire à l’égard d’elle-même. \n\n\n\n18€ / 14€ ( Flexi & abonnés ) / 10€ ( – de 26 ans ) / 1\,25€ ( Art. 27 ) \n\n\n\n\n\n\n\n\nPour des raisons de confidentialité YouTube a besoin de votre autorisation pour charger. Pour plus de détails\, veuillez consulter nos Politique de confidentialité.J'accepte\n\n\n\n\n\n\n\n	\n		Share This Story\, Choose Your Platform!\n		FacebookPinterestEmail
URL:https://centreculturelsoignies.be/event/les-dragons/
LOCATION:Salle Baudouin IV\, rue Rey Aîné 16\, Braine-le-comte\, 7090\, Belgium
CATEGORIES:Théâtre
ATTACH;FMTTYPE=image/jpeg:https://centreculturelsoignies.be/wp-content/uploads/2025/06/Les_Dragons-1.jpg
END:VEVENT
BEGIN:VEVENT
DTSTART;TZID=Europe/Paris:20260130T200000
DTEND;TZID=Europe/Paris:20260130T213000
DTSTAMP:20260422T012813
CREATED:20250611T061448Z
LAST-MODIFIED:20251117T102103Z
UID:10000195-1769803200-1769808600@centreculturelsoignies.be
SUMMARY:Tassin / Hermia / Joris
DESCRIPTION:Exploration musicale\n\n\n\n\n\n\n\nTrio multigénérationnel \n\n\n\nCe trio explore les horizons du blues contemporain teinté de jazz et de musique africaine. Grâce à une interactionorganique entre la guitare\, le saxophone et les percussions\, ce trio multigénérationnel offre une expérience musicaleintense et innovante. Le son qu’ils créent est à la fois musical et lyrique\, capable de basculer soudainement dans uneautre dimension d’atonalité et de chaos\, vous laissant étourdi.Chaque composition est un paysage sonore\, un kaléidoscope de textures\, où le rythme et le groove occupent souvent ledevant de la scène\, mais disparaissent parfois pour laisser place à d’autres formes et dialogues expressifs. Cetteinteraction dynamique tient l’auditeur en haleine\, sur le fil de l’exploration musicale. \n\n\n\nAvec Julien Tassin (gt)\,Manu Hermia (sx) & Chris Joris (percussion et batterie) \n\n\n\nEn collaboration avec C’est à Casteau ASBL \n\n\n\n15€ / 13€ ( Flexi & – de 26 ans ) / 1\,25€ ( Art. 27 ) \n\n\n\n\n\n\nPour des raisons de confidentialité YouTube a besoin de votre autorisation pour charger. Pour plus de détails\, veuillez consulter nos Politique de confidentialité.J'accepte\n\n\n\n\n\n\n\n\n\n	\n		Share This Story\, Choose Your Platform!\n		FacebookPinterestEmail
URL:https://centreculturelsoignies.be/event/julien-tassin-trio/
LOCATION:La Grange\, Rue St Antoine 5b\, Casteau\, 7061\, Belgium
CATEGORIES:Musique
ATTACH;FMTTYPE=image/png:https://centreculturelsoignies.be/wp-content/uploads/2025/06/Tassin.png
END:VEVENT
BEGIN:VEVENT
DTSTART;TZID=Europe/Paris:20260122T200000
DTEND;TZID=Europe/Paris:20260122T220000
DTSTAMP:20260422T012813
CREATED:20250617T075548Z
LAST-MODIFIED:20250623T090336Z
UID:10000220-1769112000-1769119200@centreculturelsoignies.be
SUMMARY:L'embarras du choix
DESCRIPTION:De Sébastien Azzopardi et Sacha Danino\n\n\n\n\n\n\n\nTout est affaire de choix ! \n\n\n\nAprès le triomphal Dernier coup de ciseaux\, découvrez L’Embarras du choix\, une comédie interactive signée Sébastien Azzopardi (Ma version de l’histoire) et Sacha Danino\, portée par une belle brochette de comédiens ! \n\n\n\nLe jour de ses quarante ans\, Max se rend compte qu’il est peut-être passé à côté de sa vie… Entre la raison et la passion\, son cœur balance. Installé dans une vie un peu trop confortable aux côtés de la gentille Léonore\, ayant troqué ses envies plus « rock’n roll » contre un poste de vendeur dans la bijouterie de son beau-frère\, Max voit réapparaître son amour de jeunesse… Sentant monter en lui la frousse d’avoir raté son existence\, il décide de jouer le tout pour le tout et d’opérer une série de choix cruciaux. Vous l’avez compris\, tout est une affaire de choix. Mais quand la vie vous oblige en permanence à prendre les bonnes décisions\, vous n’avez plus qu’une seule solution : demander à celui qui est là – le public – de vous aider à choisir la bonne option. Amour\, travail\, amitié\, famille\,… Max a tellement besoin de vous ! \n\n\n\nGuidé par la plume des auteurs\, Sébastien Azzopardi et de Sacha Danino\, il l’est tout autant par les spectateurs\, régulièrement priés de trancher les dilemmes. \n\n\n\nDE Sébastien Azzopardi et Sacha Danino \n\n\n\nAVEC Jean-François Breuer\, Catherine Decrolier\, Xavier Elsen\, Sébastien Hébrant et Amélie Saye \n\n\n\nMISE EN SCÈNE Sandra Raco \n\n\n\nSCÉNOGRAPHIE ET COSTUMES Sofia Dilinos \n\n\n\nDÉCOR Atelier Théâtre des Galeries \n\n\n\nCRÉATION LUMIÈRES ET RÉGIE Nicolas Kluge et Sébastien Mercial \n\n\n\nIMAGE ©Vivien Ghiron \n\n\n\n20€ / 16€ ( Flexi & abonnés )/ 12€ ( – de 26 ans ) / 1\,25€ ( Art. 27 ) \n\n\n\n\n\n\n\n\n\n\n	\n		Share This Story\, Choose Your Platform!\n		FacebookPinterestEmail
URL:https://centreculturelsoignies.be/event/lembarras-du-choix/
LOCATION:Salle Baudouin IV\, rue Rey Aîné 16\, Braine-le-comte\, 7090\, Belgium
CATEGORIES:Théâtre
ATTACH;FMTTYPE=image/png:https://centreculturelsoignies.be/wp-content/uploads/2025/06/Lembarras_du_choix.png
END:VEVENT
END:VCALENDAR