BEGIN:VCALENDAR
VERSION:2.0
PRODID:-//Centre culturel de Soignies - ECPv6.15.11//NONSGML v1.0//EN
CALSCALE:GREGORIAN
METHOD:PUBLISH
X-ORIGINAL-URL:https://centreculturelsoignies.be
X-WR-CALDESC:Évènements pour Centre culturel de Soignies
REFRESH-INTERVAL;VALUE=DURATION:PT1H
X-Robots-Tag:noindex
X-PUBLISHED-TTL:PT1H
BEGIN:VTIMEZONE
TZID:Europe/Paris
BEGIN:DAYLIGHT
TZOFFSETFROM:+0100
TZOFFSETTO:+0200
TZNAME:CEST
DTSTART:20250330T010000
END:DAYLIGHT
BEGIN:STANDARD
TZOFFSETFROM:+0200
TZOFFSETTO:+0100
TZNAME:CET
DTSTART:20251026T010000
END:STANDARD
BEGIN:DAYLIGHT
TZOFFSETFROM:+0100
TZOFFSETTO:+0200
TZNAME:CEST
DTSTART:20260329T010000
END:DAYLIGHT
BEGIN:STANDARD
TZOFFSETFROM:+0200
TZOFFSETTO:+0100
TZNAME:CET
DTSTART:20261025T010000
END:STANDARD
BEGIN:DAYLIGHT
TZOFFSETFROM:+0100
TZOFFSETTO:+0200
TZNAME:CEST
DTSTART:20270328T010000
END:DAYLIGHT
BEGIN:STANDARD
TZOFFSETFROM:+0200
TZOFFSETTO:+0100
TZNAME:CET
DTSTART:20271031T010000
END:STANDARD
END:VTIMEZONE
BEGIN:VEVENT
DTSTART;TZID=Europe/Paris:20260516T140000
DTEND;TZID=Europe/Paris:20260516T223000
DTSTAMP:20260421T205300
CREATED:20250703T063109Z
LAST-MODIFIED:20260413T123654Z
UID:10000231-1778940000-1778970600@centreculturelsoignies.be
SUMMARY:Urban Day
DESCRIPTION:Cultures urbaines\n\n\n\n\n\n\n\nL’Urban Day revient pour sa 4e édition avec un programme riche en découvertes\, performances et rencontres autour des arts urbains belges : skatepark\, parkour\,  hip-hop\, graffiti\, footfreestyle\, beatbox\,  danse\, DJ set\, slam\, street basket\, expo\, ateliers interactifs d’artistes … Une journée 100 % cultures urbaines ! \n\n\n\nLe bitume va vibrer ! La culture urbaine reprend ses droits à Soignies dans et aux alentours de l’Espace culturel Victor Jara pour une journée mémorable. Arts urbains\, sports urbains et concerts hip hop / dj sets hip hop au programme du samedi 16 mai de 14h à 22h !🤝 Avec le soutien de Tarmac \n\n\n\n• SPORTS & PERFORMANCE ( Extérieur ) \n\n\n\nDe 14h00 à 20h00 – Place Van Zeeland \n\n\n\n\n TROTTINETTE FREESTYLE ( MJ Soignies ) : Contest à 16h30\n\n\n\n\n\n STREET BASKET ( quatrespots2024 ) : Tournoi 3×3& Concours de Dunk à 17h30\n\n\n\n\n\nSKATE ( Skate Ta Région ) : Contest à 18h30 🛹 (Sponsorisé par John’Shop)\n\n\n\n\n\n FOOTBALL FREESTYLE : Show exceptionnel avec Juliette Freestyle\n\n\n\n\n\nPARKOUR (ASBL Reborn) : Initiations et démos.\n\n\n\n\n\n GRAFFITI : Initiation (14h-16h) avec les Ateliers de l’escalier.\n\n\n\n\n\nLIVE PAINTING avec Tak otac X Aeon Oner toute la journée.\n\n\n\n\n• DANSE & SHOWS ( Intérieur ) \n\n\n\n\nBREAKDANCE avec Out of control.\n\n\n\n\n\n DANSE HIP-HOP avec la Mj Epidemik\n\n\n\n\n• ARTS & CREATIVITE  ( Foyer ) \n\n\n\n\nEspace intérieur dédié à la création\n\n\n\n\n\n Rencontres Artistes : Périple Tattoo\, KLSN \, Robin Urbain et Youandgems.\n\n\n\n\n\n  Ateliers : Sérigraphie & Pixel Art ( Ateliers de l’Escalier) / Tricot Urbain ( M.J. de Neufvilles ).\n\n\n\n\n\n Expositions : Les illustrations de la street artiste Sara Conti & la collection de photographies de graffitis de Serge Spotter (Du 11 au 22 mai 2026).\n\n\n\n\n•  MUSIQUE \n\n\n\nLe flow s’empare de la scène (Collab. Ask Art & Izi Bla) \n\n\n\n CONCERTS : \n\n\n\n16h00 : N.R.V \n\n\n\n17h00 : Loli ( Ask Art ) \n\n\n\n18h00 : K-otik ( Ask Art ) \n\n\n\n19h00 : Izi Bla présente : Concerts Hip-Hop avec Band musical & Open mic. \n\n\n\n Avec : Linca\, Advmson\, Lespleen\, Scribe\, Elea\, Maiah\, Igdo\, Bleu Pierre et Tiouf. \n\n\n\n AUX PLATINES : \n\n\n\n\nGzoo Collectif : Vélo Soundsystem (Extérieur).\n\n\n\n\n\nBIG Zinzin sera aux platines du VAN VW customisé via Indigen Agency (Foyer).\n\n\n\n\n PERFORMANCES : \n\n\n\n\nSlam avec le C.C. de Fleurus & Casa del Papier\n\n\n\nBeatbox avec Thomas Shangai.\n\n\n\n\nLES PETITS PLUS \n\n\n\n\nPhotomaton\n\n\n\n\n\nStreet Food (M.J. Soignies)\n\n\n\nCapsule videos\n\n\n\n\n\nAftermovie ( L.P.S.T \, MJ de Soignies et MJ de Neufvilles )\n\n\n\n\n\nPHOTOGRAPHE : Ovidi Denruyter\n\n\n\n\n\n\n\n\n\n\n\n	\n		Share This Story\, Choose Your Platform!\n		FacebookPinterestEmail
URL:https://centreculturelsoignies.be/event/urban-day/
LOCATION:Espace culturel Victor Jara – Soignies\, Place Van Zeeland\, 31\, Soignies\, 7060\, Belgium
CATEGORIES:Danse,Education permanente,En famille,Exposition,Festival,Musique
ATTACH;FMTTYPE=image/png:https://centreculturelsoignies.be/wp-content/uploads/2025/07/Urban_Day.png
END:VEVENT
BEGIN:VEVENT
DTSTART;TZID=Europe/Paris:20260521T200000
DTEND;TZID=Europe/Paris:20260521T220000
DTSTAMP:20260421T205300
CREATED:20250617T074403Z
LAST-MODIFIED:20250623T140237Z
UID:10000219-1779393600-1779400800@centreculturelsoignies.be
SUMMARY:Mrs Jenkins et son pianiste
DESCRIPTION:Théâtre de la Toison d’Or\n\n\n\n\n\n\n\nÇa vous fera les tympans ! \n\n\n\nEn tant qu’organisateurs responsables\,  nous déclinons toutes responsabilités mais préfère prévenir. Cette pièce expose le spectateur à deux types d’accident grave : la déchirure du tympan et/ou le décrochage de la mâchoire. \n\n\n\nÀ toutes fins utiles (par exemple\, pour votre assurance)\, voici les conditions du sinistre : le pianiste Cosme Mac Moon (Achille Ridolfi) raconte le destin aussi strident qu’étonnant de Florence Foster Jenkins (Julie Duroisin)\, riche héritière américaine devenue célèbre en s’improvisant soprano colorature et en… massacrant les airs les plus célèbres du répertoire classique. Entre ses approximations mélodiques et ses costumes déconseillés aux épileptiques\, on dira pudiquement qu’on a achevé des chevaux pour moins que ça… \n\n\n\nUne chose est sûre : la cantatrice « qui chantait divinement faux »\, qui avait déjà inspiré deux films (l’un avec Catherine Frot\, l’autre avec Meryl Streep)\, ainsi que la Castafiore à Hergé\, ne va pas vous laisser indemne ! \n\n\n\nDe Stephen Temperley \n\n\n\nTexte français Stéphane Laporte \n\n\n\nMise en scène Emmanuel Dell’Erba \n\n\n\nAvec Achille Ridolfi et Julie Duroisin \n\n\n\nAssistanat à la mise en scène Lucia Siatidis \n\n\n\nDirection musicale Daphné D’Heur \n\n\n\nCostumes Chandra Vellut \n\n\n\nAssistanat costumes Jeanne Dussenne \n\n\n\nHabilleuse Margaux Verbouwens \n\n\n\nScénographie Emmanuel Dell’Erba en collaboration avec Charly Kleinermann et Dream your life \n\n\n\nVidéos Allan Beurms \n\n\n\nCréation lumières Alain Collet \n\n\n\nDécor Sonore Laurent Beumier \n\n\n\nProduction Théâtre de la Toison d’Or \n\n\n\nPhoto © Lou Verschueren \n\n\n\nAvec le soutien du Tax Shelter du Gouvernement Fédéral Belge. Casa Kafka Pictures. \n\n\n\n20€ / 16€ ( Flexi & abonnés ) / 12€ ( – de 26 ans ) / 8€ ( Groupes scolaires ) / 1\,25€ ( Art. 27 ) \n\n\n\n\n\n\n\n\n\n\n	\n		Share This Story\, Choose Your Platform!\n		FacebookPinterestEmail
URL:https://centreculturelsoignies.be/event/mrs-jenkins-et-son-pianiste/
LOCATION:Salle Baudouin IV\, rue Rey Aîné 16\, Braine-le-comte\, 7090\, Belgium
CATEGORIES:Théâtre
ATTACH;FMTTYPE=image/png:https://centreculturelsoignies.be/wp-content/uploads/2025/06/Mrs_Jenkins.png
END:VEVENT
BEGIN:VEVENT
DTSTART;TZID=Europe/Paris:20260530T120000
DTEND;TZID=Europe/Paris:20260530T233000
DTSTAMP:20260421T205300
CREATED:20260408T123132Z
LAST-MODIFIED:20260408T123248Z
UID:10000247-1780142400-1780183800@centreculturelsoignies.be
SUMMARY:Cabaret du grand braquet
DESCRIPTION:4ème édition\n\n\n\n\n\n\n\nFestival itinérant\n\n\n\nLa 4e édition du Cabaret du Grand Braquet se tiendra cette année le dernier samedi de mai!  \n\n\n\nCe festival itinérant peut se faire en vélo\, à pied (pour les plus courageux) ou en transport en commun (les 3 sites sont proches des gares de Braine-le-Comte et de Soignies). Le parcours en vélo est encadré par le Gracq mais attention les places sont limitées à 50 cyclistes. \n\n\n\nVous pouvez acquérir un pass qui vous donne accès à tous les concerts sur les 3 sites (25€) ou ne choisir uniquement qu’un site si vous souhaitez simplement voir un artiste en particulier ou si le temps vous manque pour découvrir le programme complet. Tout est possible!  \n\n\n\nAu programme\, ne programmation éclectique à découvrir absolument : \n\n\n\nChant des Possibles (Braine-le-Comte) \n\n\n\n12h00: Accueil des Cyclistes et petite restauration \n\n\n\n13h30: JACQUES STOTZEM (guitare fingerpicking) \n\n\n\nEntrée: 12€ – gratuit pour les – 12 ans \n\n\n\nMaison de la Laïcité au Parc Pater (Soignies) \n\n\n\n16h00: SOPHIE DUEZ (chanson française) \n\n\n\n17h30: LATERNA MAGICA joue Triplex (trio de flûtes à bec) \n\n\n\nEntrée: 10€ – gratuit pour les – 12 ans \n\n\n\nLa Verrerie (Braine-le-Comte) \n\n\n\n20h30: LOVERA (Ukulélé & Shoegaze) \n\n\n\n21h30: GROS COEUR (Rock psychédélique tropical) \n\n\n\n22h40: DJ LOMBRIC (Françoiz Breut) \n\n\n\nEntrée: 15€ – gratuit pour les – 12 ans \n\n\n\nLes pass pour les 3 sites avec ou sans vélo sont à 25€. Attention les places pour le parcours encadré par le Gracq sont limitées à 50 cyclistes \n\n\n\nPetite restauration et bar sur chacun des sites \n\n\n\nLes adresses complètes: \n\n\n\nLe chant des possibles: En face du nr 4 de la Rue des Postes à 7090 Braine-le-Comte \n\n\n\nLa Maison de la Laïcité: Rue Mademoiselle Hanicq 1 à 7060 Soignies \n\n\n\nLa Verrerie: Rue de l’industrie 11 à Braine-le-Comte (Possibilité de se garer au parking P2 qui est gratuit dès 18h\, le week-end et les jours fériés) \n\n\n\n\n\n\n\n\n\n\n	\n		Share This Story\, Choose Your Platform!\n		FacebookPinterestEmail
URL:https://centreculturelsoignies.be/event/cabaret-du-grand-braquet/
CATEGORIES:Festival,Musique
ATTACH;FMTTYPE=image/jpeg:https://centreculturelsoignies.be/wp-content/uploads/2026/04/BRAQUET_4_BANNER_FB-scaled.jpg
END:VEVENT
BEGIN:VEVENT
DTSTART;TZID=Europe/Paris:20260531T100000
DTEND;TZID=Europe/Paris:20260531T120000
DTSTAMP:20260421T205300
CREATED:20250612T095359Z
LAST-MODIFIED:20250625T093742Z
UID:10000210-1780221600-1780228800@centreculturelsoignies.be
SUMMARY:Contes pour éclairer la terre
DESCRIPTION:Pascale Delagne\n\n\n\n\n\n\n\nHistoires et musique \n\n\n\nDès 4 ans – Durée 60′ \n\n\n\nQuand le vent se lève et fait danser la cime des arbres\, l’accordéon se met à chanter. C’est le moment pour les histoires. Histoire d’une forêt oubliée et d’un loup secrètement amoureux d’une voix et autres histoires d’ours et d’écureuil à la recherche de la lumière\, de rires de grenouilles et de ruse de vers de terre\, de drôle d’éléphant et de cachalot invité à un anniversaire. Chacun\, à sa manière\, suit son rêve. \n\n\n\nConteuse et chanteuse\, Pascale nous happe\, lumineuse\, pour nous emporter ailleurs et pourtant si près de chez nous. \n\n\n\nArtiste de la parole : Pascale Delagne \n\n\n\nIllustration : Emilie Hennen \n\n\n\nFormule Petit-déjeuner / Spectacle ( Petit-déjeuner à 10h et spectacle à 11h ) \n\n\n\nAvec petit-déjeuner : 14€ / 10€ / Flexi & – de 26 ans ) / 3\,25€ ( Art. 27 ) \n\n\n\nSans petit-déjeuner : 12€ / 8€ / Flexi & – de 26 ans ) / 1\,25€ ( Art. 27 ) \n\n\n\n\n\n\n\n\n\n\n	\n		Share This Story\, Choose Your Platform!\n		FacebookPinterestEmail
URL:https://centreculturelsoignies.be/event/contes-pour-eclairer-la-terre/
LOCATION:Maison de la Laïcité\, Rue Mademoiselle Hanicq\, 1\, Soignies\, 7060
CATEGORIES:En famille
ATTACH;FMTTYPE=image/png:https://centreculturelsoignies.be/wp-content/uploads/2025/06/Contes_pour_eclairer.png
END:VEVENT
END:VCALENDAR