BEGIN:VCALENDAR
VERSION:2.0
PRODID:-//Centre culturel de Soignies - ECPv6.15.11//NONSGML v1.0//EN
CALSCALE:GREGORIAN
METHOD:PUBLISH
X-ORIGINAL-URL:https://centreculturelsoignies.be
X-WR-CALDESC:Évènements pour Centre culturel de Soignies
REFRESH-INTERVAL;VALUE=DURATION:PT1H
X-Robots-Tag:noindex
X-PUBLISHED-TTL:PT1H
BEGIN:VTIMEZONE
TZID:Europe/Paris
BEGIN:DAYLIGHT
TZOFFSETFROM:+0100
TZOFFSETTO:+0200
TZNAME:CEST
DTSTART:20250330T010000
END:DAYLIGHT
BEGIN:STANDARD
TZOFFSETFROM:+0200
TZOFFSETTO:+0100
TZNAME:CET
DTSTART:20251026T010000
END:STANDARD
BEGIN:DAYLIGHT
TZOFFSETFROM:+0100
TZOFFSETTO:+0200
TZNAME:CEST
DTSTART:20260329T010000
END:DAYLIGHT
BEGIN:STANDARD
TZOFFSETFROM:+0200
TZOFFSETTO:+0100
TZNAME:CET
DTSTART:20261025T010000
END:STANDARD
BEGIN:DAYLIGHT
TZOFFSETFROM:+0100
TZOFFSETTO:+0200
TZNAME:CEST
DTSTART:20270328T010000
END:DAYLIGHT
BEGIN:STANDARD
TZOFFSETFROM:+0200
TZOFFSETTO:+0100
TZNAME:CET
DTSTART:20271031T010000
END:STANDARD
END:VTIMEZONE
BEGIN:VEVENT
DTSTART;TZID=Europe/Paris:20260904T090000
DTEND;TZID=Europe/Paris:20260919T163000
DTSTAMP:20260422T184113
CREATED:20250814T074050Z
LAST-MODIFIED:20260128T084824Z
UID:10000234-1788512400-1789835400@centreculturelsoignies.be
SUMMARY:Didier Wilmart
DESCRIPTION:Not a good idea\n\n\n\n\n\n\n\nPhotographies Urbex \n\n\n\nAprès des études d’architecture d’intérieur puis publicité\, Didier Wilmart travaille dans les domaines du graphisme et de la publicité. Il a également pratiqué l’aquarelle pendant plus de 15 ans. Passionné de clichés\, il franchit le pas de la photographie en 2023 et part à la découverte d’endroits à la fois insolites et interdits «URBEX»\, des lieux magiques et mystérieux\, un terrain exceptionnel pour ses prises de vue reflétant l’âme et  l’histoire de ces bâtiments ( Not a good idea ). \n\n\n\nExposition ouverte en semaine de 9h à 12h et de 13h30 à 16h30 ainsi que le week-end de 15h à 18h. \n\n\n\nVernissage le vendredi 23 janvier à 20h \n\n\n\n\n\n\n\n\n\n\n	\n		Share This Story\, Choose Your Platform!\n		FacebookPinterestEmail
URL:https://centreculturelsoignies.be/event/didier-wilmart/
LOCATION:Espace culturel Victor Jara – Soignies\, Place Van Zeeland\, 31\, Soignies\, 7060\, Belgium
CATEGORIES:Exposition
ATTACH;FMTTYPE=image/png:https://centreculturelsoignies.be/wp-content/uploads/2025/08/Didier_Wilmart.png
END:VEVENT
END:VCALENDAR