BEGIN:VCALENDAR
VERSION:2.0
PRODID:-//Centre culturel de Soignies - ECPv6.15.11//NONSGML v1.0//EN
CALSCALE:GREGORIAN
METHOD:PUBLISH
X-ORIGINAL-URL:https://centreculturelsoignies.be
X-WR-CALDESC:Évènements pour Centre culturel de Soignies
REFRESH-INTERVAL;VALUE=DURATION:PT1H
X-Robots-Tag:noindex
X-PUBLISHED-TTL:PT1H
BEGIN:VTIMEZONE
TZID:Europe/Paris
BEGIN:DAYLIGHT
TZOFFSETFROM:+0100
TZOFFSETTO:+0200
TZNAME:CEST
DTSTART:20250330T010000
END:DAYLIGHT
BEGIN:STANDARD
TZOFFSETFROM:+0200
TZOFFSETTO:+0100
TZNAME:CET
DTSTART:20251026T010000
END:STANDARD
BEGIN:DAYLIGHT
TZOFFSETFROM:+0100
TZOFFSETTO:+0200
TZNAME:CEST
DTSTART:20260329T010000
END:DAYLIGHT
BEGIN:STANDARD
TZOFFSETFROM:+0200
TZOFFSETTO:+0100
TZNAME:CET
DTSTART:20261025T010000
END:STANDARD
BEGIN:DAYLIGHT
TZOFFSETFROM:+0100
TZOFFSETTO:+0200
TZNAME:CEST
DTSTART:20270328T010000
END:DAYLIGHT
BEGIN:STANDARD
TZOFFSETFROM:+0200
TZOFFSETTO:+0100
TZNAME:CET
DTSTART:20271031T010000
END:STANDARD
END:VTIMEZONE
BEGIN:VEVENT
DTSTART;TZID=Europe/Paris:20260612T200000
DTEND;TZID=Europe/Paris:20260614T210000
DTSTAMP:20260422T152004
CREATED:20250702T095220Z
LAST-MODIFIED:20260316T102331Z
UID:10000230-1781294400-1781470800@centreculturelsoignies.be
SUMMARY:Contrastes
DESCRIPTION:Rencontres artistiques\n\n\n\n\n\n\n\nRendez-vous désormais incontournable\, Contrastes a pour ambition de constituer une vitrine du travail des artistes et artisans de notre entité mais aussi de notre région\, particulièrement dynamique en matière de créativité. Une belle occasion de retrouvailles dans un esprit de rencontre et de lien social. \n\n\n\nLes candidatures sont à envoyer avant le 17 avril 2026. \n\n\n\nTéléchargements : \n\n\n\n• Courrier aux artistes et artisans d’art \n\n\n\n• Formulaire de candidature \n\n\n\nVernissage le vendredi 12 juin à 20h \n\n\n\nOuvert tout le week-end de 11h à 18h \n\n\n\n\n\n\n\n\n\n\n	\n		Share This Story\, Choose Your Platform!\n		FacebookPinterestEmail
URL:https://centreculturelsoignies.be/event/contrastes/
LOCATION:Espace culturel Victor Jara – Soignies\, Place Van Zeeland\, 31\, Soignies\, 7060\, Belgium
CATEGORIES:Exposition
ATTACH;FMTTYPE=image/jpeg:https://centreculturelsoignies.be/wp-content/uploads/2025/07/Contrastes.jpg
END:VEVENT
END:VCALENDAR