BEGIN:VCALENDAR
VERSION:2.0
PRODID:-//Centre culturel de Soignies - ECPv6.15.11//NONSGML v1.0//EN
CALSCALE:GREGORIAN
METHOD:PUBLISH
X-ORIGINAL-URL:https://centreculturelsoignies.be
X-WR-CALDESC:Évènements pour Centre culturel de Soignies
REFRESH-INTERVAL;VALUE=DURATION:PT1H
X-Robots-Tag:noindex
X-PUBLISHED-TTL:PT1H
BEGIN:VTIMEZONE
TZID:Europe/Paris
BEGIN:DAYLIGHT
TZOFFSETFROM:+0100
TZOFFSETTO:+0200
TZNAME:CEST
DTSTART:20250330T010000
END:DAYLIGHT
BEGIN:STANDARD
TZOFFSETFROM:+0200
TZOFFSETTO:+0100
TZNAME:CET
DTSTART:20251026T010000
END:STANDARD
BEGIN:DAYLIGHT
TZOFFSETFROM:+0100
TZOFFSETTO:+0200
TZNAME:CEST
DTSTART:20260329T010000
END:DAYLIGHT
BEGIN:STANDARD
TZOFFSETFROM:+0200
TZOFFSETTO:+0100
TZNAME:CET
DTSTART:20261025T010000
END:STANDARD
BEGIN:DAYLIGHT
TZOFFSETFROM:+0100
TZOFFSETTO:+0200
TZNAME:CEST
DTSTART:20270328T010000
END:DAYLIGHT
BEGIN:STANDARD
TZOFFSETFROM:+0200
TZOFFSETTO:+0100
TZNAME:CET
DTSTART:20271031T010000
END:STANDARD
END:VTIMEZONE
BEGIN:VEVENT
DTSTART;TZID=Europe/Paris:20260313T083000
DTEND;TZID=Europe/Paris:20260405T180000
DTSTAMP:20260422T135851
CREATED:20250711T063302Z
LAST-MODIFIED:20250715T074644Z
UID:10000232-1773390600-1775412000@centreculturelsoignies.be
SUMMARY:Xar
DESCRIPTION:Peintures\n\n\n\n\n\n\n\nUne approche humaniste et engagée. \n\n\n\nNotaire de jour\, artiste de nuit\, Xar est un esprit partagé entre la rigueur du droit et la liberté de l’art. Derrière Xar\, il y a une sensibilité profonde aux événements du monde\, il y a un homme qui transforme ses émotions en matière\, en textures\, en couleurs. A travers ses toiles\, il crée des ponts entre la mémoire et le présent\, entre la douleur et l’espoir avec une approche engagée et humaniste… \n\n\n\n\n\n\n\n\n\n\n	\n		Share This Story\, Choose Your Platform!\n		FacebookPinterestEmail
URL:https://centreculturelsoignies.be/event/xar/
LOCATION:Espace culturel Victor Jara – Soignies\, Place Van Zeeland\, 31\, Soignies\, 7060\, Belgium
CATEGORIES:Exposition
ATTACH;FMTTYPE=image/jpeg:https://centreculturelsoignies.be/wp-content/uploads/2025/07/Xar.jpg
END:VEVENT
END:VCALENDAR