BEGIN:VCALENDAR
VERSION:2.0
PRODID:-//Centre culturel de Soignies - ECPv6.15.11//NONSGML v1.0//EN
CALSCALE:GREGORIAN
METHOD:PUBLISH
X-WR-CALNAME:Centre culturel de Soignies
X-ORIGINAL-URL:https://centreculturelsoignies.be
X-WR-CALDESC:Évènements pour Centre culturel de Soignies
REFRESH-INTERVAL;VALUE=DURATION:PT1H
X-Robots-Tag:noindex
X-PUBLISHED-TTL:PT1H
BEGIN:VTIMEZONE
TZID:Europe/Paris
BEGIN:DAYLIGHT
TZOFFSETFROM:+0100
TZOFFSETTO:+0200
TZNAME:CEST
DTSTART:20250330T010000
END:DAYLIGHT
BEGIN:STANDARD
TZOFFSETFROM:+0200
TZOFFSETTO:+0100
TZNAME:CET
DTSTART:20251026T010000
END:STANDARD
BEGIN:DAYLIGHT
TZOFFSETFROM:+0100
TZOFFSETTO:+0200
TZNAME:CEST
DTSTART:20260329T010000
END:DAYLIGHT
BEGIN:STANDARD
TZOFFSETFROM:+0200
TZOFFSETTO:+0100
TZNAME:CET
DTSTART:20261025T010000
END:STANDARD
BEGIN:DAYLIGHT
TZOFFSETFROM:+0100
TZOFFSETTO:+0200
TZNAME:CEST
DTSTART:20270328T010000
END:DAYLIGHT
BEGIN:STANDARD
TZOFFSETFROM:+0200
TZOFFSETTO:+0100
TZNAME:CET
DTSTART:20271031T010000
END:STANDARD
END:VTIMEZONE
BEGIN:VEVENT
DTSTART;TZID=Europe/Paris:20260410T200000
DTEND;TZID=Europe/Paris:20260410T213000
DTSTAMP:20260424T154206
CREATED:20250612T092649Z
LAST-MODIFIED:20260303T070607Z
UID:10000209-1775851200-1775856600@centreculturelsoignies.be
SUMMARY:Drache nationale
DESCRIPTION:Compagnie Anoraks\n\n\n\n\n\n\n\nJonglage et pluie \n\n\n\nDrache Nationale est le « nom populaire donné à la forte pluie qui s’abat parfois sur la Belgique le jour de la fête nationale. » Dans ce spectacle\, Tom\, Gaëlle et Denis se réunissent autour d’une question essentielle à leurs yeux : « Comment positiver quand c’est la merde ? » Ils y répondent de manière sensible et ludique avec des balles\, des massues blanches\, des K-way\, de la pluie\, une reine déchue\, une boum\, la mort d’un meilleur ami\, des rêves ratés\, des petites victoires\, la liste des pires merdes du monde et surtout : de la jonglerie. \n\n\n\n« Averse salutaire de rires\, confettis et balles de jonglage pour surfer sur la mauvaise vague des temps qui courent. Faites-vous du bien. » – Laurence Bertels\, La Libre \n\n\n\nDe et avec Tom Boccara\, Gaëlle Coppée\, Denis Michiels \n\n\n\nCoach Bram Dobbelaere \n\n\n\nConseil artistique Gaël Santisteva \n\n\n\nJeu clownesque Christine Rossignol-Dallaire \n\n\n\nLumières Thibault Condy \n\n\n\nCostumes Héloïse Mathieu \n\n\n\nProduction et diffusion Chantal Heck\, La chouette diffusion \n\n\n\nCoproductions et résidences Maison de la Culture Tournai\, Perplx\, Latitude 50 – Pôle des Arts du Cirque et de la Rue\, UP – Circus & Performing Arts\, Festival International des arts de la rue de Chassepierre\, Centre Culturel Wolubilis\, Centre Culturel du Brabant Wallon\, Archipel 19\, Centre Culturel d’Uccle\, Maison de la Création\, La Batoude soutenu par Risotto\, réseau pour l’essor des arts de la rue et de l’espace public en Île-de-France Subventions Wallonie-Bruxelles Théâtre-Danse\, Fédération Wallonie-Bruxelles. \n\n\n\nUne collaboration des Centres culturels de Soignies et de Braine-le-Comte \n\n\n\n18€ / 14€ ( Flexi & abonnés ) / 12€ ( – de 26 ans ) / 1\,25€ ( Art. 27 ) \n\n\n\n\n\n\n\n\n\n\n\n\n	\n		Share This Story\, Choose Your Platform!\n		FacebookPinterestEmail
URL:https://centreculturelsoignies.be/event/drache-nationale/
LOCATION:Espace culturel Victor Jara – Soignies\, Place Van Zeeland\, 31\, Soignies\, 7060\, Belgium
CATEGORIES:Cirque,En famille,Théâtre
ATTACH;FMTTYPE=image/png:https://centreculturelsoignies.be/wp-content/uploads/2025/06/Drache_nationale.png
END:VEVENT
END:VCALENDAR